BEGIN:VCALENDAR
VERSION:2.0
PRODID:-//PlasTexTron® - ECPv6.15.20//NONSGML v1.0//EN
CALSCALE:GREGORIAN
METHOD:PUBLISH
X-ORIGINAL-URL:https://www.plastextron.at
X-WR-CALDESC:Veranstaltungen für PlasTexTron®
REFRESH-INTERVAL;VALUE=DURATION:PT1H
X-Robots-Tag:noindex
X-PUBLISHED-TTL:PT1H
BEGIN:VTIMEZONE
TZID:Europe/Berlin
BEGIN:DAYLIGHT
TZOFFSETFROM:+0100
TZOFFSETTO:+0200
TZNAME:CEST
DTSTART:20250330T010000
END:DAYLIGHT
BEGIN:STANDARD
TZOFFSETFROM:+0200
TZOFFSETTO:+0100
TZNAME:CET
DTSTART:20251026T010000
END:STANDARD
BEGIN:DAYLIGHT
TZOFFSETFROM:+0100
TZOFFSETTO:+0200
TZNAME:CEST
DTSTART:20260329T010000
END:DAYLIGHT
BEGIN:STANDARD
TZOFFSETFROM:+0200
TZOFFSETTO:+0100
TZNAME:CET
DTSTART:20261025T010000
END:STANDARD
BEGIN:DAYLIGHT
TZOFFSETFROM:+0100
TZOFFSETTO:+0200
TZNAME:CEST
DTSTART:20270328T010000
END:DAYLIGHT
BEGIN:STANDARD
TZOFFSETFROM:+0200
TZOFFSETTO:+0100
TZNAME:CET
DTSTART:20271031T010000
END:STANDARD
END:VTIMEZONE
BEGIN:VEVENT
DTSTART;VALUE=DATE:20260421
DTEND;VALUE=DATE:20260425
DTSTAMP:20260419T155611
CREATED:20241218T205941Z
LAST-MODIFIED:20241231T213448Z
UID:1678-1776729600-1777075199@www.plastextron.at
SUMMARY:Techtextil und Techprocess 2026
DESCRIPTION:21.– 24. April 2026Frankfurt am Main\, Deutschland \n\nAuf der Techtextil präsentieren internationale Aussteller das gesamte Spektrum technischer Textilien\, funktionaler Bekleidungstextilien und textiler Technologien. Parallel zur Techtextil findet mit der Texprocess die Leitmesse für die Bekleidungs- und textilverarbeitende Industrie statt.  \n\n\nVorschau Messen 2026 \n\nDie Planungen der Techtextil und Texprocess vom 21. bis 24. April 2026 starten erfolgsversprechend.  Mit einer Vielzahl nationaler und internationaler Aussteller sowie einer umfassenden Palette an Hightech-Textilien in zwölf Anwendungsbereichen bietet die Veranstaltung den perfekten Rahmen für kreative Impulse. Der Austausch zwischen Forschung\, Entwicklung und der Umsetzung skalierbarer Lösungen funktioniert dabei am besten\, wenn die gesamte Wertschöpfungskette präsent ist. Aus diesem Grund findet parallel die Texprocess in direkter Nähe statt\, sodass Ideen nahtlos in konkrete Ergebnisse überführt werden können. \n\nSeien Sie als Aussteller auf der Techtextil 2026 dabei. Sichern Sie sich bis zum 12. März 2025 unseren Frühbucherpreis. \n\n  \n\n\n\nFokusthemen der Techtextil: \n\nAnwendungsbereiche: Technische Textilien und Vliesstoffe sind vielseitig einsetzbar. Die Techtextil bringt alle Anwendungsbereiche zusammen. Hier treffen Autobauer*innen auf Modedesigner*innen und Medizintechniker*innen auf Industriespezialist*innen. Die Produktgruppen der Techtextil repräsentieren die gesamte Wertschöpfungskette im Bereich technischer Textilien\, Vliesstoffe und Bekleidungstextilien. \nTechtextil Innovation Award:Textile Innovationen\, die die Welt verändern – Auf der Techtextil prämieren wir bahnbrechende Neu- und Weiterentwicklungen mit dem begehrten Techtextil Innovation Award. Gezeigt werden Entwicklungen aus den Bereichen technische Textilien\, Vliesstoffe und funktionale Bekleidungstextilien\, die globale Marktstandards neu definieren und Grenzen überschreiten. \nMehr Informationen dazu: \nhttps://techtextil.messefrankfurt.com/frankfurt/de.html \n  \n\n  \nIm Vergleich dazu gilt die Texprocess als internationale Leitmesse für die Verarbeitung von textilen und flexiblen Materialien \nSie bietet eine Plattform für zukunftsweisende Technologien und digitale Dienstleistungen auf höchstem Niveau. Internationale Aussteller präsentieren die neuesten Maschinen\, Anlagen\, Verfahren und Services für die Herstellung von Bekleidung sowie die Verarbeitung von textilen und flexiblen Materialien. Gleichzeitig findet die Techtextil statt – die internationale Leitmesse für technische Textilien und Vliesstoffe –\, wodurch Besucher die Möglichkeit erhalten\, beide Branchen gebündelt zu erleben. \n  \nFokusthemen der Texprocess: \nInnovation Award: Prämierung von Neuentwicklungen für die Verarbeitung von Textilien und flexiblen Materialien.Texprocess Forum: Wertvolles Fachwissen und frische Impulse in Vorträgen und Podiumsgesprächen.Denim Talks: Die Zukunft der Denimherstellung im Blick.Econogy: Nachhaltigkeit auf der Texprocess erleben.Young Professionals: Zahlreiche Vernetzungsmöglichkeiten in Wissens- und Networking-Formaten \n\nMehr Informationen dazu: \nhttps://texprocess.messefrankfurt.com/frankfurt/de.html \n  \n© Text und Fotos:https://techtextil.messefrankfurt.com \nhttps://texprocess.messefrankfurt.com/frankfurt/de.html
URL:https://www.plastextron.at/event/techtextil-techprocess2026/
CATEGORIES:Veranstaltungen
ATTACH;FMTTYPE=image/jpeg:https://www.plastextron.at/wp-content/uploads/2024/12/Bildschirmfoto-2024-12-31-um-13.10.59.jpg
END:VEVENT
BEGIN:VEVENT
DTSTART;VALUE=DATE:20260429
DTEND;VALUE=DATE:20260430
DTSTAMP:20260419T155611
CREATED:20260324T224641Z
LAST-MODIFIED:20260324T230311Z
UID:1903-1777420800-1777507199@www.plastextron.at
SUMMARY:Fachveranstaltung Closing the Loop
DESCRIPTION:29. April 2026 | 8.30 – 16.00 UhrBusiness Upper Austria – OÖ Wirtschaftsagentur GmbH \, Linz\, Österreich \n\nOrganisiert wird die kostenlose Veranstaltung vom Cleantech-Cluster der Business Upper Austria. Ziel ist es\, zentrale Handlungsfelder für eine zukunftsfähige Textilwirtschaft aufzuzeigen und den Austausch zwischen Industrie\, Forschung und Praxis zu fördern. \nDie Textilbranche steht vor einem grundlegenden Wandel: Weg von linearen Produktionsmodellen hin zu geschlossenen Materialkreisläufen. Die EU verfolgt mit ihrer Strategie für nachhaltige Textilien das Ziel\, Produkte künftig langlebiger\, reparierbar und recyclingfähig zu gestalten.Dieser Wandel betrifft die gesamte Wertschöpfungskette – von Design und Materialwahl bis hin zu Recycling und Wiederverwendung. \nInhalte und Schwerpunkte der Veranstaltung:\nDie Veranstaltung deckt zentrale Themenbereiche ab\, die für Unternehmen entlang der textilen Wertschöpfungskette relevant sind: \n1. Regulatorische Rahmenbedingungen\nAktuelle rechtliche Anforderungen und zukünftige Entwicklungen werden vorgestellt\, um Unternehmen Orientierung im zunehmenden Regulierungsumfeld zu geben. \n2. Digitalisierung und Transparenz\nDigitale Lösungen spielen eine Schlüsselrolle bei der Nachverfolgbarkeit von Materialien und der Umsetzung zirkulärer Geschäftsmodelle. \n3. Recycling und Sortierung\nTechnologien zur Trennung und Wiederverwertung von Textilien stehen im Fokus – ein entscheidender Hebel für funktionierende Kreisläufe. \n4. Kreislaufwirtschaft in der Praxis\nPraxisbeispiele aus Unternehmen zeigen\, wie zirkuläre Lösungen bereits heute umgesetzt werden – von Recyclingansätzen bis zu neuen Geschäftsmodellen. \nVorläufige Agenda\nab 08:30 UhrEintreffen der Teilnehmer:innen \nab 09:00 UhrBegrüßung und Einleitung ins Thema \nRechtliche RahmenbedingungenElisabeth Moser-Marzi\, Moser-Marzi Rechtsanwälte \nDigitalisierung & TransparenzPatrick Denzler\, JKU Linz \nRecycling & SortierungAndreas Bartl & Nika Depope\, TU Wien \nMit Kreislaufwirtschaft aus der Wegwerf-SpiraleAnna Leitner\, Global2000 \n\n\n  \nNeben den Fachvorträgen bietet die Veranstaltung auch Raum für Austausch und Vernetzung. In einer interaktiven Session begleitet von Julia Raupp & Katja Grabner (Circular Cocreation) besteht die Möglichkeit\, gemeinsam Ideen und Projekte zu entwickeln und sich mit Akteur:innen aus unterschiedlichen Bereichen der Textilwertschöpfungskette auszutauschen. \nWeitere Informationen und die kostenlose Anmeldung  hier: Closing the Loop: Wege zu einer kreislauffähigen Textilwirtschaft \n\n\n  \n© Text und Fotos: \nClosing the Loop: Wege zu einer kreislauffähigen Textilwirtschaft | 29.04.2026 \nwww.freepik.com
URL:https://www.plastextron.at/event/fachveranstaltung-closing-the-loop/
CATEGORIES:Veranstaltungen
ATTACH;FMTTYPE=image/jpeg:https://www.plastextron.at/wp-content/uploads/2026/03/closingtheloop.jpg
END:VEVENT
BEGIN:VEVENT
DTSTART;VALUE=DATE:20260505
DTEND;VALUE=DATE:20260507
DTSTAMP:20260419T155611
CREATED:20260310T203345Z
LAST-MODIFIED:20260310T205702Z
UID:1892-1777939200-1778111999@www.plastextron.at
SUMMARY:Plastics Recycling Show Europe 2026 – Innovationen für Kreislaufwirtschaft
DESCRIPTION:05.–06.05. 2026Rai Amsterdam\, Holland \n\nDie Plastics Recycling Show Europe (PRSE) zählt zu den wichtigsten europäischen Fachveranstaltungen für Kunststoffrecycling und Kreislaufwirtschaft. Sie findet am 5.–6. Mai 2026 im RAI Amsterdam statt und bringt Industrie\, Technologieanbieter und Recyclingexperten zusammen. \nInhalt der Veranstaltung\nDie Messe und Konferenz deckt die gesamte Wertschöpfungskette des Kunststoffrecyclings ab – von Design-for-Recycling über Sammlung und Sortierung bis hin zu neuen Anwendungen für recycelte Polymere. \nMehr als 450 Aussteller aus der internationalen Kunststoffindustrie präsentieren Innovationen bei Recyclingmaschinen\, Materialien und digitalen Lösungen. \nRelevanz für Unternehmen\nDie Veranstaltung bietet Unternehmen aus der Kunststoffverarbeitung und Verpackungsindustrie eine wichtige Plattform\, um: \n\n\nneue Recyclingtechnologien kennenzulernen \n\n\nregulatorische Entwicklungen zu diskutieren \n\n\ninternationale Kontakte zu knüpfen \n\n\nGerade angesichts der zunehmenden EU-Regulierung im Bereich Verpackung und Recycling gewinnt der Austausch auf Branchenveranstaltungen zunehmend an Bedeutung. \n\nMehr Information: \nhttps://prseventeurope.comhttps://www.plasticsrecyclers.eu/news/visitor-registration-now-open-for-prse-2026/ \n\n© Text und Fotos:https://www.prseventeurope.comhttps://www.freepik.com \n 
URL:https://www.plastextron.at/event/plastics-recycling-show-europe-2026-innovationen-fuer-kreislaufwirtschaft/
CATEGORIES:Veranstaltungen
ATTACH;FMTTYPE=image/jpeg:https://www.plastextron.at/wp-content/uploads/2026/03/1163285_ORHG1E0-Kopie-scaled.jpg
END:VEVENT
BEGIN:VEVENT
DTSTART;VALUE=DATE:20260601
DTEND;VALUE=DATE:20261201
DTSTAMP:20260419T155611
CREATED:20260309T161213Z
LAST-MODIFIED:20260310T201913Z
UID:1875-1780272000-1796083199@www.plastextron.at
SUMMARY:Textile Fachseminare des TITV 2026
DESCRIPTION:  \nJuni–November 2026im Textilforschungsinstitut Thüringen-Vogtland e. V. (TITV)\, Greiz\, Deutschlandoder auch digital durchführbar \n\nPraxisnahes Fachwissen\, neue Technologien und direkte Anwendbarkeit im Arbeitsalltag – genau darauf ist das Weiterbildungsangebot des TITV e.V. ausgerichtet. Als wirtschaftsnahes Textilforschungsinstitut vermitteln sie aktuelles Know-how entlang der gesamten textilen Wertschöpfungskette – von bewährten Verfahren bis hin zu zukunftsweisenden Smart-Textiles-Technologien. Die Seminare richten sich an Fachkräfte der Textilbranche und angrenzender Industrien ebenso wie an Quereinsteigerinnen und Quereinsteiger\, die ihr Wissen gezielt erweitern möchten. Ob in Präsenz oder digital: Alle Formate sind konsequent praxisorientiert und bieten echten Mehrwert für den beruflichen Alltag. \n \nTITV-Veranstaltungen 2026\n\n01. Nachhaltigkeit & Kreislaufwirtschaft in der textilen Kette18.06.2026 | 06.10.2026\n\n\nDie Textilindustrie steht vor einer der größten Transformationen ihrer Geschichte: Nachhaltigkeit und Kreislaufwirtschaft sind keine Zukunftsvisionen mehr\, sondern entscheidende Erfolgs­faktoren für Unternehmen. Doch wie sieht der Weg dorthin konkret aus? \nIn unserem eintägigen Seminar präsentieren wir aktuelle Trends\, Technologien und Geschäftsmodelle und geben Einblicke in die Arbeit unseres Instituts.Seit Jahren forschen und entwickeln wir an innovativen Lösungen für eine ressourcenschonende\, zirkuläre Textilwirtschaft – von neuen Materialansätzen über Recyclingverfahren bis zu nachhaltigen Geschäftsmodellen. \nNeben inspirierenden Impulsen aus Forschung und Praxis erwartet Sie eine interaktive Workshop-Phase\, in der gemeinsam praxisnahe Ideen entstehen – mit konkretem Nutzen für die betriebliche Umsetzung. \n\n\nDas Programm dieser Fachtagung detailliert zum Download HIER \n\n\n\n  \n\n02. Crashkurs – Vom Faden zur Fläche09.06.2026| 08.10.2026\n\n\nMaterialien\, Verfahren und Maschinen zur Garnherstellung und Flächenbildung \nIn diesem Basisseminar werden die Grundlagen zur Herstellung von Garnen und Zwirnen sowie deren Weiterverarbeitung zu textilen Flächen vermittelt. Bereits durch die Auswahl des Faserrohstoffs und des Einsatzes von Garnen und Zwirnen wird die Qualität von Textilien maßgeblich beeinflusst. Was bei der Garnauswahl und ‑verarbeitung zu beachten ist und welche Herstellungsverfahren sich in der textilen Flächenbildung anschließen\, wird im Seminar aufgezeigt. Zusammenhänge zwischen Konstruktion und Eigenschaften werden erläutert. Weiterhin wird ein Überblick über Technologien und Maschinen zur Flächenherstellung gegeben. Eingehend werden die Weberei und die Maschenwarenherstellung behandelt. Demon­strationen im Technikum im Rahmen des Präsenzseminars verdeutlichen die praktische Realisierung. Im digitalen Seminar übertragen wir live den Technikumsbesuch. \n\n\n\n\nDas Programm dieses Crashkurses detailliert zum Download HIER \n  \n\n\n\n\n03. Einstiegsseminar: Smart Textiles – Textilien + Elektronik10.06.2026 | 05.11.2026\nDas Seminar bietet eine praxisnahe Einführung in das Thema „Smart Textiles“. Anhand von Beispielen aus der Forschung und Entwicklung werden Möglichkeiten aufgezeigt\, um Textilien mit einem Mehr an Funktionalität zu versehen. Die Herausforderung ist dabei\, die fachspezifischen Gegebenheiten von Textilien und Elektronik zu kombinieren. Vorgestellt werden Einsatzgebiete von Smart Textiles\, Herstellungstechnologien sowie die notwendige Verbindungstechnik. Es werden verschiedene Prüfverfahren zum Nachweis der Funktionssicherheit erläutert. Demonstrationen im Technikum im Rahmen des Präsenzseminars verdeutlichen die praktische Realisierung.  \n\n\n\n\nDas Programm diesem Einsteigerseminar detailliert zum Download HIER \n\n\n \n04. Fachseminar: Smart Textiles – Textilien + Elektronik+Heizen10.–11.06.2026 | 05.–06.11.2026\nTextile Heizsysteme werden zunehmend sowohl für technische Anwendungen als auch funktionelle Kleidung interessant. Bestehen die Heizsysteme vollständig aus textilen Materialien\, werden die positiven Eigenschaften von Textilien\, ihre Flexibilität und Gestaltungsvielfalt\, das angenehme Tragegefühl und deren Wasch­beständigkeit uneingeschränkt wirksam. Im Seminar wird beispielhaft an einer textilen Heizbandage gezeigt\, wie diese webtechnisch hergestellt werden kann\, wie die Berechnung der Heizfläche erfolgt und welche Möglichkeiten der Anschluss- und Verbindungstechnik es gibt. Parallel zeigt die praxisnahe Einführung in das Thema „Smart Textiles“ weitere spannende Felder auf.  \nDas Seminar bietet eine praxisnahe Einführung in das Thema „Smart Textiles“. Anhand von Beispielen aus der Forschung und Entwicklung werden Möglichkeiten aufgezeigt\, um Textilien mit einem Mehr an Funktionalität zu versehen. Die Herausforderung ist dabei\, die fachspezifischen Gegebenheiten von Textilien und Elektronik zu kombinieren. Vorgestellt werden Einsatzgebiete von Smart Textiles\, Herstellungstechnologien sowie die notwendige Verbindungstechnik. Es werden verschiedene Prüfverfahren zum Nachweis der Funktionssicherheit erläutert. Demonstrationen im Technikum im Rahmen des Präsenzseminars verdeutlichen die praktische Realisierung.  \n\n\n\n\nDas Programm diesem Einsteigerseminar detailliert zum Download HIER \n  \n\n\n\n\n\n05. Fachseminar: Qualitätssicherung von Textilien17.03.2026 | 19.11.2026\nAufgabe der Textilprüfung ist es\, durch Einsatz spezieller Prüfverfahren festzustellen\, ob ein Material den Anforderungen genügen wird\, denen es bei seinem späteren Gebrauch oder Verwendungszweck ausgesetzt ist. Wie Sie durch textil-physikalische und chemisch-analytische Prüfungen die Qualität von Textilien beurteilen und eventuelle Reklamationen vermeiden können\, wird in diesem Seminar vermittelt.Demonstrationen im Rahmen des Präsenzseminars verdeutlichen die praktische Realisierung.  \n\n\n\n\nDas Programm diesem Einsteigerseminar detailliert zum Download HIER \n  \n\n\n06. Textilveredlung – klassisch und funktionalisierend *NEUES FACHSEMINAR*17.–18.11.2026\nVorbehandlung – Färben – Drucken – Ausrüstung – Beschichtung – Analytik \nDie Textilveredlung umfasst alle Prozesse\, die die Eigenschaften von Textilien verbessern. Mit verschiedenen Verfahren und Technologien werden Trage-\, Repräsentations- und Pflegeeigenschaften gezielt beeinflusst. Ausgehend von den Anforderungen an das Enderzeugnis wird gezeigt\, welche Verfahren geeignet sind\, Textilien qualitätsgerecht herzustellen. Weiterhin werden energieeffiziente Verfahren wie die Vakuumextraktion und die Ultraschallbehandlung vorgestellt. Die Mischung aus Technikumsbesuchen und theoretischen Grundlagen ermöglichen einen umfassenden Einblick in textile Veredlungsverfahren. \nUm alle relevanten Aspekte zu vermitteln und Möglichkeiten zur Interaktion zu bieten\, umfasst das gesamte Veredlungsseminar zwei Tage: Am Tag 1 werden die klassischen Veredlungsverfahren erläutert und praktisch gezeigt. Der 2. Tag behandelt die Funktionalisierung von Textilien durch Veredlung – in Theorie und Praxis. Die Praxisanteile des Präsenzseminars werden im Digitalseminar live übertragen. \nDas Programm diesem Einsteigerseminar detailliert zum Download HIER \n\n\n\n\n  \n  \n\nDie Anmeldungen erfolgen direkt über folgenden Link: \nwww.titv-greiz.de/de/akademie/seminare-2026/anmeldeformular-2026 \n\n  \n© Text und Fotos:www.titv-greiz.dewww.freepik.com
URL:https://www.plastextron.at/event/textile-fachseminare-des-titv-2026/
CATEGORIES:Veranstaltungen
ATTACH;FMTTYPE=image/jpeg:https://www.plastextron.at/wp-content/uploads/2026/03/16288aaa.jpg
END:VEVENT
BEGIN:VEVENT
DTSTART;VALUE=DATE:20260908
DTEND;VALUE=DATE:20260911
DTSTAMP:20260419T155611
CREATED:20251229T204812Z
LAST-MODIFIED:20260107T164053Z
UID:1573-1788825600-1789084799@www.plastextron.at
SUMMARY:Recycling Tech 2026
DESCRIPTION:08.–10.09. 2026Warsaw\, Polen \n\nAuch 2026 findet in Warschau (Ptak Warsaw Expo) die „International Trade Fair for Recycling Technologies and Raw Materials Recovery“ statt – besser bekannt als Recycling Expo 2026. Die Veranstaltung richtet sich an Fachleute und Entscheider aus der Recycling‑ und Rohstoffrückgewinnungsbranche und bietet eine zentrale Plattform für Innovation\, Wissenstransfer und Geschäftskontakte im Branchenumfeld. \nIm Fokus der Messe\nDie Recycling Expo präsentiert aktuelle Technologien und Lösungen für die Abfallverarbeitung\, Rohstoffrückgewinnung und Kreislaufwirtschaft. Ausgestellt werden unter anderem Maschinen und Systeme für: \n\nRecycling und Materialrückgewinnung von Kunststoffen\nTechnologien zur Aufbereitung von elektrischen und elektronischen Altgeräten\nVerfahren zur Rohstoffrückgewinnung aus kommunalem Abfall\nSpezielle Recycling‑Anlagen für Metall\, Glas\, Gummi und Holz \n\nProgrammhighlights\nNeben der Ausstellung erwartet die Fachöffentlichkeit ein Konferenz‑ und Workshop‑Programm\, bei dem Experten und Branchenvertreter aktuelle Trends\, Herausforderungen und zukunftsweisende Technologien im Recycling‑ und Circular‑Economy‑Sektor diskutieren. Zudem gibt es Networking‑Zonen\, in denen gezielt Geschäftskontakte geknüpft und Partnerschaften aufgebaut werden können. \nWarum die Veranstaltung lohnt\nDie Recycling Expo ist nicht nur eine Handelsmesse – sie ist ein Branchentreffpunkt für Innovation\, Praxiswissen und Kooperationen. Besucher profitieren von: \n\nEinblicken in Marktneuheiten und technische Lösungen\nDirektem Austausch mit Herstellern und Anbietern\nKonferenzen und Fachvorträgen\, die Trends und Zukunftsaussichten aufzeigen\nMöglichkeiten zum Ausbau internationaler Geschäftsbeziehungen\n\n\n\nMore information: \nhttps://recyclingexpo.pl/en \n\n© Text und Fotos:https://recyclingexpo.pl/en/https://www.freepik.com \n 
URL:https://www.plastextron.at/event/recycling-tech2026/
CATEGORIES:Veranstaltungen
ATTACH;FMTTYPE=image/jpeg:https://www.plastextron.at/wp-content/uploads/2025/12/recyclingtech.jpg
END:VEVENT
BEGIN:VEVENT
DTSTART;VALUE=DATE:20260916
DTEND;VALUE=DATE:20260919
DTSTAMP:20260419T155611
CREATED:20251210T213325Z
LAST-MODIFIED:20260106T231923Z
UID:1593-1789516800-1789775999@www.plastextron.at
SUMMARY:65. Dornbirn GFC 2026
DESCRIPTION:16. – 18. September 2026Kulturhaus\, Dornbirn\, Österreich \n\nDie Dornbirn-GFC geht auch 2026 in die nächste Runde und versteht sich als Innovationsplattform für die globale Faser-\, Textil-\, Nonwovens-\, Ausrüstungs- und Maschinenbaubranche und soll als Ideen- und Netzwerkgenerator fungieren. Die ecoplus. Niederösterreichs Wirtschaftsagentur GmbH ist ein langjähriger Sponsor der GFC. \nThemenvorschau der GFC 2026:\n1. Vom Faserrecycling zum systemischen Wandel – Skalierung zirkulärer Lösungen weltweitDer globale Wandel hin zur Kreislaufwirtschaft definiert die gesamte Welt der Fasern neu – von natürlichen über synthetische bis hin zu künstlichen Fasern. Diese Sitzung konzentriert sich auf systemische Ansätze zur Kreislaufwirtschaft und befasst sich sowohl mit mechanischem und chemischem Recycling als auch mit erneuerbarem Kohlenstoff und regenerativen Modellen für Naturfasern. \nZu den wichtigsten Aspekten gehören:– Recyclingtechnologien im industriellen Maßstab (mechanisch\, chemisch\, enzymatisch)– Faser-zu-Faser- vs. Faser-zu-X-Verfahren\, Kohlenstoffabscheidung und -verwertung– Kreislaufmodelle für Wolle\, Baumwolle und Bastfasern– Politische Rahmenbedingungen und globale Zusammenarbeit \n2. Digitale Zukunft – KI\, Daten und intelligente FasernKünstliche Intelligenz und datengesteuerte Systeme revolutionieren die Art und Weise\, wie Fasern – ob natürlich\, synthetisch oder hybrid – entworfen und hergestellt werden. Diese Sitzung befasst sich mit der digitalen Transformation und intelligenten Funktionen entlang der gesamten Wertschöpfungskette. \nZu den wichtigsten Aspekten gehören:– KI-gestütztes Materialdesign und -herstellung– Datentransparenz und digitale Produktpässe– Intelligente Textilien mit integrierten Sensoren und adaptiven Funktionen– Rückverfolgbarkeit der Herkunft natürlicher Fasern und der Lieferketten \n3. Funktionale und innovative Fasern – von Hochleistungsanwendungen bis zum AlltagIm Zentrum der Innovation steht die Verschmelzung von natürlichen\, biobasierten und synthetischen Fasern zu multifunktionalen Materialien. Diese Sitzung beleuchtet neue Entwicklungen in Bezug auf Leistung\, Widerstandsfähigkeit und Nachhaltigkeit in verschiedenen Anwendungsbereichen – von Verbundwerkstoffen auf Wollbasis bis hin zu biobasierten Polymeren und fortschrittlichen Kunststoffen. \nZu den wichtigsten Aspekten gehören:– Neue biobasierte und hochleistungsfähige Polymere– Funktionalisierte Naturfasern (Wolle\, Hanf\, Baumwolle\, Flachs usw.)– Kunstfasern: Innovationen bei Polyester\, Polyamid\, Aramid und Spezialfasern– Hybride Fasersysteme und fortschrittliche Verarbeitun \n4. Arbeits- und Schutzbekleidung\, einschließlich Verteidigungs-/MilitäranwendungenSchutz- und Arbeitsbekleidungstextilien treiben die Innovation in der Fasertechnologie voran und verbinden Komfort\, Leistung und Haltbarkeit. Je nach den eingereichten Beiträgen wird dieser Teil der Veranstaltung den Schwerpunkt auf Anwendungen im Bereich Verteidigung und Sicherheit legen\, darunter Naturfasermischungen\, die die Atmungsaktivität und den Komfort unter extremen Bedingungen verbessern. \nZu den wichtigsten Aspekten gehören:– Hochleistungs- und ballistische Fasern– Flamm-\, Hitze- und Schnittfestigkeit– Natürliche/synthetische Hybridmaterialien für Schutzkleidung– Zirkuläres Design und Langlebigkeit für Arbeitskleidungssysteme \n5. Branchenübergreifende Innovationen – „Faser & Textil trifft Zellstoff & Papier”Erforschung von Synergien zwischen den Bereichen Faser\, Textil und Papier\, um Lösungen der nächsten Generation anzuregen. Von kreislauffähigen Rohstoffen bis hin zu fortschrittlichen Verarbeitungs- und Oberflächentechnologien kann die branchenübergreifende Zusammenarbeit Innovationen beschleunigen und neue\, hochwertige Papieranwendungen erschließen \n  \n\nBleiben Sie am Laufenden: \nwww.dornbirn-gfc.com \n\n  \n© Text und Fotos:www.dornbirn-gfc.com
URL:https://www.plastextron.at/event/gfcdornbirn2026/
CATEGORIES:Veranstaltungen
ATTACH;FMTTYPE=image/jpeg:https://www.plastextron.at/wp-content/uploads/2025/12/csm_Dornbirn-GFC-Erdball_886f5deaa8.jpg
END:VEVENT
END:VCALENDAR