BEGIN:VCALENDAR
VERSION:2.0
PRODID:-//PlasTexTron® - ECPv6.15.20//NONSGML v1.0//EN
CALSCALE:GREGORIAN
METHOD:PUBLISH
X-WR-CALNAME:PlasTexTron®
X-ORIGINAL-URL:https://www.plastextron.at
X-WR-CALDESC:Veranstaltungen für PlasTexTron®
REFRESH-INTERVAL;VALUE=DURATION:PT1H
X-Robots-Tag:noindex
X-PUBLISHED-TTL:PT1H
BEGIN:VTIMEZONE
TZID:Europe/Berlin
BEGIN:DAYLIGHT
TZOFFSETFROM:+0100
TZOFFSETTO:+0200
TZNAME:CEST
DTSTART:20240331T010000
END:DAYLIGHT
BEGIN:STANDARD
TZOFFSETFROM:+0200
TZOFFSETTO:+0100
TZNAME:CET
DTSTART:20241027T010000
END:STANDARD
BEGIN:DAYLIGHT
TZOFFSETFROM:+0100
TZOFFSETTO:+0200
TZNAME:CEST
DTSTART:20250330T010000
END:DAYLIGHT
BEGIN:STANDARD
TZOFFSETFROM:+0200
TZOFFSETTO:+0100
TZNAME:CET
DTSTART:20251026T010000
END:STANDARD
BEGIN:DAYLIGHT
TZOFFSETFROM:+0100
TZOFFSETTO:+0200
TZNAME:CEST
DTSTART:20260329T010000
END:DAYLIGHT
BEGIN:STANDARD
TZOFFSETFROM:+0200
TZOFFSETTO:+0100
TZNAME:CET
DTSTART:20261025T010000
END:STANDARD
END:VTIMEZONE
BEGIN:VEVENT
DTSTART;VALUE=DATE:20251028
DTEND;VALUE=DATE:20251101
DTSTAMP:20260421T154230
CREATED:20250522T125949Z
LAST-MODIFIED:20260107T162013Z
UID:1836-1761609600-1761955199@www.plastextron.at
SUMMARY:ITMA ASIA + CITME 2025 in Singapur
DESCRIPTION:28.–31. OKTOBER 2025\,\nSingapur\, Asien \nErneut öffnet die ITMA ASIA + CITME in Singapur erneut ihre Türen – eine der führenden Messen für textile Technologien in Asien. Die Veranstaltung bringt Hersteller\, Forscher\, Investoren und Technologieexperten zusammen\, um die neuesten Entwicklungen in Textilmaschinen\, Smart Textiles\, Digitalisierung und nachhaltiger Produktion zu präsentieren. \n\n\nWas die Messe bietet\nDie ITMA ASIA + CITME 2025 präsentiert innovative Lösungen entlang der gesamten textilen Wertschöpfungskette\, darunter: \n\nTextilmaschinen und Fertigungstechnologien: Rundstrickmaschinen\, Webmaschinen\, Spinnereitechnologien\, automatisierte Färbe- und Veredelungsanlagen\nSmart Textiles & Wearables: Funktionstextilien\, Sensorintegration\, smarte Materialien für Sport\, Medizin und Industrie\nDigitalisierung & Industrie 4.0: KI‑gestützte Produktionsplanung\, Predictive Maintenance\, digitale Fabriklösungen\nNachhaltigkeit & Kreislaufwirtschaft: Energieeffiziente Maschinen\, biobasierte Materialien\, Recycling- und Upcycling-Technologien\n\nProgramm-Highlights\n\nKeynotes & Fachvorträge: Branchenführer und Innovationspioniere berichten über Trends\, Herausforderungen und Chancen in der Textilbranche\nProduktdemonstrationen live vor Ort: Maschinenhersteller zeigen ihre neuesten Anlagen im Einsatz\nInnovation Hub: Start-ups und Forschungseinrichtungen präsentieren zukunftsweisende Technologien\, Smart Textiles und nachhaltige Lösungen\nNetworking & Business Matching: Gezielte Treffen zwischen internationalen Herstellern\, Lieferanten und Technologiepartnern\n\nWarum die Messe wichtig ist\nDie ITMA ASIA + CITME ist mehr als eine Maschinenmesse: Sie ist ein Kompass für die Zukunft der Textilindustrie. Besucher erhalten exklusive Einblicke in: \n\nNeue Produktionsverfahren und Automatisierungstechnologien\nIntegration von KI und Sensorik in textile Prozesse\nMaterialinnovationen für nachhaltige und zirkuläre Textilien\n\n\n\n  \nMehr Information zu den Millennium Days finden Sie hier: www.itmaasiasingapore.com/ \n  \n© Text und Fotos: \nwww.itmaasiasingapore.com
URL:https://www.plastextron.at/event/itma-asia-citme-2025-in-singapur/
CATEGORIES:Veranstaltungen
ATTACH;FMTTYPE=image/png:https://www.plastextron.at/wp-content/uploads/2025/11/Bildschirmfoto-2026-01-07-um-14.21.32.png
END:VEVENT
END:VCALENDAR